BEGIN:VCALENDAR
VERSION:2.0
PRODID:-//eventon.com NONSGML v1.0//EN
BEGIN:VEVENT
UID:69ec38a91428c
DTSTAMP:20260425T064441
DTSTART:20210225T070000Z
DTEND:20210227T210000Z
TZID:Asia/Jerusalem
LOCATION:מנטה מרכז צלילה ישרוטל חוף אלמוג
SUMMARY:פורים במנטה
DESCRIPTION: חופשת פורים בבתי הספר מאפשרת זמן מעולה לבוא ולחגוג איתנו! במהלך החופשה בנוסף לקורסים הקבועים\,  יתכן ויפתחו גם קורסים בימים נוספים* &nbsp;\nhttps://divemanta.co.il/event/purim/var/ri-1.l-L1
URL:https://divemanta.co.il/event/purim/var/ri-1.l-L1
END:VEVENT
END:VCALENDAR